BEGIN:VCALENDAR
VERSION:2.0
PRODID:-//wp-events-plugin.com//7.2.3//EN
TZID:Europe/London
X-WR-TIMEZONE:Europe/London
BEGIN:VEVENT
UID:127@enact-eu.net
DTSTART;TZID=Europe/Sofia;VALUE=DATE:20260525
DTEND;TZID=Europe/Sofia;VALUE=DATE:20260531
DTSTAMP:20250704T154342Z
URL:https://enact-eu.net/calendar/24th-triennial-meeting-of-the-internatio
 nal-association-of-forensic-sciences-iafs-2026/
SUMMARY:Meeting of the International Association of Forensic Sciences
DESCRIPTION:24th Triennial Meeting of the International Association of Fore
 nsic Sciences (IAFS 2026) - 25th - 30th May\, 2026\, Sofia\, Bulgaria.\n\n
 For further information visit: https://iafs2026.com/
ATTACH;FMTTYPE=image/jpeg:https://enact-eu.net/wp-content/uploads/2025/07/
 IAFS.png
CATEGORIES:conference
LOCATION:Sofia\, Sofia\, Sofia\, Bulgaria
X-APPLE-STRUCTURED-LOCATION;VALUE=URI;X-ADDRESS=Sofia\, Sofia\, Bulgaria;X-
 APPLE-RADIUS=100;X-TITLE=Sofia:geo:0,0
END:VEVENT
BEGIN:VTIMEZONE
TZID:Europe/Sofia
X-LIC-LOCATION:Europe/Sofia
BEGIN:DAYLIGHT
DTSTART:20260329T040000
TZOFFSETFROM:+0200
TZOFFSETTO:+0300
TZNAME:EEST
END:DAYLIGHT
END:VTIMEZONE
END:VCALENDAR