BEGIN:VCALENDAR
VERSION:2.0
PRODID:-//wp-events-plugin.com//7.2.3//EN
TZID:Europe/London
X-WR-TIMEZONE:Europe/London
BEGIN:VEVENT
UID:139@enact-eu.net
DTSTART;TZID=Europe/Brussels;VALUE=DATE:20250924
DTEND;TZID=Europe/Brussels;VALUE=DATE:20250927
DTSTAMP:20250918T201459Z
URL:https://enact-eu.net/calendar/2ps-training-event-empowering-practice-e
 nhancing-prevention/
SUMMARY:2PS training event: Empowering Practice\, Enhancing Prevention
DESCRIPTION:The event will present Training Strategies for Professionals Wo
 rking with Harmful and Distressing Content- Including an Overview of all 2
 PS CSA Prevention Modules\n\nCo-organised with the CYCLOPES project\, this
  workshop is the final training event for 2PS.\n\nIt aims to bridge projec
 t outcomes with broader European networks\, professional communities\, and
  institutional frameworks dedicated to prevention\, psychological resilien
 ce\, and professional well-being. Our goal is to address both grassroots a
 nd top-down challenges\, ensuring a lasting impact for practitioners and o
 rganisations alike.\n\nFind out more: https://2ps-project.eu/2ps-training-
 event-empowering-practice-enhancing-prevention/\n\nRegister: https://forms
 .office.com/pages/responsepage.aspx?id=x3u4jyK32UGw-xlcg1EKh-OiMWmEMIVKrEI
 gqYulqfRUMTdOR0hZMEVXS1FZWUI2SURPOTBNWjNYRy4u&amp\;route=shorturl
ATTACH;FMTTYPE=image/jpeg:https://enact-eu.net/wp-content/uploads/2025/09/
 2ps-training-evt.png
CATEGORIES:fct-event
END:VEVENT
BEGIN:VTIMEZONE
TZID:Europe/Brussels
X-LIC-LOCATION:Europe/Brussels
BEGIN:DAYLIGHT
DTSTART:20250330T030000
TZOFFSETFROM:+0100
TZOFFSETTO:+0200
TZNAME:CEST
END:DAYLIGHT
END:VTIMEZONE
END:VCALENDAR