BEGIN:VCALENDAR
VERSION:2.0
PRODID:-//wp-events-plugin.com//7.2.3//EN
TZID:Europe/London
X-WR-TIMEZONE:Europe/London
BEGIN:VEVENT
UID:125@enact-eu.net
DTSTART;TZID=Europe/Paris;VALUE=DATE:20260519
DTEND;TZID=Europe/Paris;VALUE=DATE:20260522
DTSTAMP:20250704T153542Z
URL:https://enact-eu.net/calendar/cbrne-research-and-innovation-conference
 /
SUMMARY:CBRNE Research and Innovation Conference
DESCRIPTION:The CBRNE R&amp\;I Conference is specifically devoted to scien
 tific updates\, responders' feedbacks and expression of needs. It also inc
 ludes workshops and demonstrations of innovative materials\, technolog
 ies and procedures\, according to the following themes: DETECTION - IDENTI
 FICATION\, PROTECTION - DECONTAMINATION\, MEDICAL COUNTERMEASURES\, RISKS 
 &amp\; CRISIS MANAGEMENT.\n\nWe are looking forward to your proposals for 
 communication and to welcoming you at Arcachon\, France\,  in May 2026!
ATTACH;FMTTYPE=image/jpeg:https://enact-eu.net/wp-content/uploads/2025/07/
 CBRNE.png
CATEGORIES:conference
LOCATION:Arcachon\, Arcachon\, Arcachon\, France\, France
X-APPLE-STRUCTURED-LOCATION;VALUE=URI;X-ADDRESS=Arcachon\, Arcachon\, Franc
 e\, France;X-APPLE-RADIUS=100;X-TITLE=Arcachon:geo:0,0
END:VEVENT
BEGIN:VTIMEZONE
TZID:Europe/Paris
X-LIC-LOCATION:Europe/Paris
BEGIN:DAYLIGHT
DTSTART:20260329T030000
TZOFFSETFROM:+0100
TZOFFSETTO:+0200
TZNAME:CEST
END:DAYLIGHT
END:VTIMEZONE
END:VCALENDAR