BEGIN:VCALENDAR
VERSION:2.0
PRODID:-//wp-events-plugin.com//7.2.3//EN
TZID:Europe/London
X-WR-TIMEZONE:Europe/London
BEGIN:VEVENT
UID:181@enact-eu.net
DTSTART;TZID=Europe/Athens;VALUE=DATE:20261005
DTEND;TZID=Europe/Athens;VALUE=DATE:20261007
DTSTAMP:20260319T142358Z
URL:https://enact-eu.net/calendar/connect-to-protect-children-youth-at-ris
 k-conference/
SUMMARY:Connect to Protect - Children & Youth at Risk Conference
DESCRIPTION:This international conference brings together researchers\, pra
 ctitioners\, policymakers and organisations working on child protection an
 d violence prevention. The event will explore topics such as youth delinqu
 ency\, safeguarding practices\, digital safety and online exploitation\, c
 ommunity resilience\, and cross-sector cooperation in protecting vulnerabl
 e children and young people.\nMore info: here
ATTACH;FMTTYPE=image/jpeg:https://enact-eu.net/wp-content/uploads/2026/03/
 connect-to-protect.png
CATEGORIES:conference
LOCATION:Athens\, Athens\, Athens\, Greece
X-APPLE-STRUCTURED-LOCATION;VALUE=URI;X-ADDRESS=Athens\, Athens\, Greece;X-
 APPLE-RADIUS=100;X-TITLE=Athens:geo:0,0
END:VEVENT
BEGIN:VTIMEZONE
TZID:Europe/Athens
X-LIC-LOCATION:Europe/Athens
BEGIN:DAYLIGHT
DTSTART:20260329T040000
TZOFFSETFROM:+0200
TZOFFSETTO:+0300
TZNAME:EEST
END:DAYLIGHT
END:VTIMEZONE
END:VCALENDAR