BEGIN:VCALENDAR
VERSION:2.0
PRODID:-//wp-events-plugin.com//7.2.3//EN
TZID:Europe/London
X-WR-TIMEZONE:Europe/London
BEGIN:VEVENT
UID:113@enact-eu.net
DTSTART;TZID=Europe/Paris;VALUE=DATE:20250615
DTEND;TZID=Europe/Paris;VALUE=DATE:20250620
DTSTAMP:20250415T133029Z
URL:https://enact-eu.net/calendar/eurosatory-2026/
SUMMARY:Eurosatory 2026
DESCRIPTION:Eurosatory 2026 - The Global Event for Defence and Security\n\n
 In an increasingly complex world\, Eurosatory is the tradeshow that accomp
 anies and reflects global change. From the exhibition’s perspective\, th
 is means enabling every nation to have the means to defend itself and gua
 rantee the security of its population.\n\nFor further information visit: h
 ttps://www.eurosatory.com/en/eurosatory-2026-on-tour/
ATTACH;FMTTYPE=image/jpeg:https://enact-eu.net/wp-content/uploads/2025/04/
 ES-PARIS.png
CATEGORIES:conference
LOCATION:Paris\, Paris\, Paris\, France
X-APPLE-STRUCTURED-LOCATION;VALUE=URI;X-ADDRESS=Paris\, Paris\, France;X-AP
 PLE-RADIUS=100;X-TITLE=Paris:geo:0,0
END:VEVENT
BEGIN:VTIMEZONE
TZID:Europe/Paris
X-LIC-LOCATION:Europe/Paris
BEGIN:DAYLIGHT
DTSTART:20250330T030000
TZOFFSETFROM:+0100
TZOFFSETTO:+0200
TZNAME:CEST
END:DAYLIGHT
END:VTIMEZONE
END:VCALENDAR