BEGIN:VCALENDAR
VERSION:2.0
PRODID:-//wp-events-plugin.com//7.2.3//EN
TZID:Europe/London
X-WR-TIMEZONE:Europe/London
BEGIN:VEVENT
UID:71@enact-eu.net
DTSTART;TZID=Europe/Berlin;VALUE=DATE:20250402
DTEND;TZID=Europe/Berlin;VALUE=DATE:20250404
DTSTAMP:20241022T114608Z
URL:https://enact-eu.net/calendar/general-police-equipment-exhibition-conf
 erence-gpec-digital/
SUMMARY:General Police Equipment Exhibition & Conference - GPEC Digital
DESCRIPTION:International Exhibition &amp\; Conferences for Internal Securi
 ty\n\nIn this special edition\, GPEC® digital focuses on the digitalizat
 ion of internal security\, law enforcement and homeland security. We want 
 to advance digitalization by working with experts from authorities and ind
 ustry. In this way\, we fill it with real life and make solutions and digi
 tal technologies tangible and future-oriented for police and security auth
 orities. GPEC® places value on training and further education\, the exch
 ange of new technologies and practical solutions as well as inter-minister
 ial\, national and international networking.\n\nFor further information vi
 sit - https://www.gpecdigital.com/en/gpec-digital
ATTACH;FMTTYPE=image/jpeg:https://enact-eu.net/wp-content/uploads/2024/10/
 GPEC-1.png
CATEGORIES:conference
LOCATION:Leipzig\, Germany\, Leipzig\, Leipzig\, Germany\, Germany
X-APPLE-STRUCTURED-LOCATION;VALUE=URI;X-ADDRESS=Leipzig\, Leipzig\, Germany
 \, Germany;X-APPLE-RADIUS=100;X-TITLE=Leipzig\, Germany:geo:0,0
END:VEVENT
BEGIN:VTIMEZONE
TZID:Europe/Berlin
X-LIC-LOCATION:Europe/Berlin
BEGIN:DAYLIGHT
DTSTART:20250330T030000
TZOFFSETFROM:+0100
TZOFFSETTO:+0200
TZNAME:CEST
END:DAYLIGHT
END:VTIMEZONE
END:VCALENDAR