BEGIN:VCALENDAR
VERSION:2.0
PRODID:-//wp-events-plugin.com//7.2.3//EN
TZID:Europe/London
X-WR-TIMEZONE:Europe/London
BEGIN:VEVENT
UID:149@enact-eu.net
DTSTART;TZID=Europe/Brussels;VALUE=DATE:20260423
DTEND;TZID=Europe/Brussels;VALUE=DATE:20260425
DTSTAMP:20260413T093712Z
URL:https://enact-eu.net/calendar/smi2g-2026/
SUMMARY:SMI2G 2026
DESCRIPTION:The SMI2G brokerage event gathers European-wide innovators and 
 practitioners who are looking for further consortium partners by presentin
 g game-changing ideas and novel technologies addressing the challenges of 
 Horizon Europe's Civil Security for Society 2026/2027 Work Programme (atta
 ched).\n\nEvery year\, SMI2G hosts top-level keynote speakers\, expert pan
 el discussions\, and ground-breaking pitch sessions related to the respect
 ive calls.  As a result\, the event offers participants significant netwo
 rking opportunities\, supporting consortium-building efforts and the shari
 ng of valuable information concerning the Horizon Europe Security Calls.\n
 \nThe SMI2G brokerage event is organised by the EARTO Working Group on Sec
 urity and Defence research\, the SEREN network\, EOS\, IMG-S\, ECSO\, CMIN
 E\, and the Ministère de l’Enseignement Supérieur et de la Recherche\,
  and is supported by ENLETS.\n\nhttps://www.cmine.eu/events/199747
ATTACH;FMTTYPE=image/jpeg:https://enact-eu.net/wp-content/uploads/2026/01/
 sm2ig2026.png
CATEGORIES:conference,fct-event
LOCATION:Paris\, Paris\, Paris\, France
X-APPLE-STRUCTURED-LOCATION;VALUE=URI;X-ADDRESS=Paris\, Paris\, France;X-AP
 PLE-RADIUS=100;X-TITLE=Paris:geo:0,0
END:VEVENT
BEGIN:VTIMEZONE
TZID:Europe/Brussels
X-LIC-LOCATION:Europe/Brussels
BEGIN:DAYLIGHT
DTSTART:20260329T030000
TZOFFSETFROM:+0100
TZOFFSETTO:+0200
TZNAME:CEST
END:DAYLIGHT
END:VTIMEZONE
END:VCALENDAR