BEGIN:VCALENDAR
VERSION:2.0
PRODID:-//wp-events-plugin.com//7.2.3//EN
TZID:Europe/London
X-WR-TIMEZONE:Europe/London
BEGIN:VEVENT
UID:83@enact-eu.net
DTSTART;TZID=Europe/Madrid;VALUE=DATE:20250915
DTEND;TZID=Europe/Madrid;VALUE=DATE:20250919
DTSTAMP:20250120T143431Z
URL:https://enact-eu.net/calendar/spie-security-defence/
SUMMARY:SPIE Security + Defence
DESCRIPTION:SPIE Security + Defence is the leading international conference
  for engineers and scientists involved in the latest developments in sensi
 ng\, data and signal analysis\, optronics\, quantum science\, optical tech
 nologies\, and funding programmes.\n\n\n\n\n\n\nSecurity + Defence confere
 nce topics:\n\n\n\n\n\n\n\n\n\n\n• Target and Background Signatures: Tra
 ditional Methods or Artificial Intelligence\n• Electro-optical and Infra
 red Systems: Technology and Applications\n• Electro-optical Remote Sensi
 ng\n• High Power Lasers and Technologies for Optical Countermeasures\n
 • Quantum Technologies for Defence and Security\n• Sensors and Communi
 cation Technologies in the 1 GHz to 10 THz Band\n• Emerging Imaging and 
 Sensing Technologies for Security and Defence\n• Advanced Materials\, Bi
 omaterials\, and Manufacturing Technologies for Security and Defence\n• 
 Artificial Intelligence for Security and Defence Applications\n• Autonom
 ous Systems for Security and Defence\n\n\n\n\n\nFor further information vi
 sit: https://spie.org/conferences-and-exhibitions/sensors-and-imaging/prog
 ramme/conferences/security--defence
ATTACH;FMTTYPE=image/jpeg:https://enact-eu.net/wp-content/uploads/2025/01/
 spie.png
CATEGORIES:conference
LOCATION:Madrid\, Spain\, Madrid\, Madrid\, Spain
X-APPLE-STRUCTURED-LOCATION;VALUE=URI;X-ADDRESS=Madrid\, Madrid\, Spain;X-A
 PPLE-RADIUS=100;X-TITLE=Madrid\, Spain:geo:0,0
END:VEVENT
BEGIN:VTIMEZONE
TZID:Europe/Madrid
X-LIC-LOCATION:Europe/Madrid
BEGIN:DAYLIGHT
DTSTART:20250330T030000
TZOFFSETFROM:+0100
TZOFFSETTO:+0200
TZNAME:CEST
END:DAYLIGHT
END:VTIMEZONE
END:VCALENDAR