BEGIN:VCALENDAR
VERSION:2.0
PRODID:-//wp-events-plugin.com//7.2.3//EN
TZID:Europe/London
X-WR-TIMEZONE:Europe/London
BEGIN:VEVENT
UID:146@enact-eu.net
DTSTART;TZID=Europe/London;VALUE=DATE:20260519
DTEND;TZID=Europe/London;VALUE=DATE:20260522
DTSTAMP:20260118T221544Z
URL:https://enact-eu.net/calendar/tech-abuse-conference/
SUMMARY:Tech Abuse Conference
DESCRIPTION:An international conference on technology-facilitated abuse —
  building bridges across sectors\, borders\, and disciplines.\n\nThe event
  will bring together researchers\, industry leaders\, policymakers\, front
 line workers\, and survivors to explore various forms of technology facili
 tated abuse.\n\nhttps://www.genderandtech.net/conference
ATTACH;FMTTYPE=image/jpeg:https://enact-eu.net/wp-content/uploads/2026/01/
 techabuseconference.png
CATEGORIES:conference
LOCATION:City Hall\, London\, City Hall\, London\, United Kingdom
X-APPLE-STRUCTURED-LOCATION;VALUE=URI;X-ADDRESS=City Hall\, London\, United
  Kingdom;X-APPLE-RADIUS=100;X-TITLE=City Hall\, London:geo:0,0
END:VEVENT
BEGIN:VTIMEZONE
TZID:Europe/London
X-LIC-LOCATION:Europe/London
BEGIN:DAYLIGHT
DTSTART:20260329T020000
TZOFFSETFROM:+0000
TZOFFSETTO:+0100
TZNAME:BST
END:DAYLIGHT
END:VTIMEZONE
END:VCALENDAR