BEGIN:VCALENDAR
VERSION:2.0
PRODID:-//wp-events-plugin.com//7.2.3//EN
TZID:Europe/London
X-WR-TIMEZONE:Europe/London
BEGIN:VEVENT
UID:176@enact-eu.net
DTSTART;TZID=Europe/Paris;VALUE=DATE:20261014
DTEND;TZID=Europe/Paris;VALUE=DATE:20261017
DTSTAMP:20260319T133022Z
URL:https://enact-eu.net/calendar/the-octopus-conference/
SUMMARY:The Octopus Conference
DESCRIPTION:Organised by the Council of Europe\, the Octopus Conference is 
 one of the largest international forums dedicated to cybercrime cooperatio
 n. The 2026 edition marks the 25th anniversary of the Budapest Convention 
 on Cybercrime and will bring together experts from over 100 countries to d
 iscuss emerging challenges such as cybercrime-as-a-service\, the impact of
  artificial intelligence on cybercrime\, digital evidence cooperation\, an
 d the prosecution of cyber-enabled crimes.\n\nMore info: https://www.coe.i
 nt/en/web/cybercrime/octopus-conference-2026
ATTACH;FMTTYPE=image/jpeg:https://enact-eu.net/wp-content/uploads/2026/03/
 octopus-conference-1.png
CATEGORIES:conference
LOCATION:Strasbourg\, Strasbourg\, Strasbourg\, France
X-APPLE-STRUCTURED-LOCATION;VALUE=URI;X-ADDRESS=Strasbourg\, Strasbourg\, F
 rance;X-APPLE-RADIUS=100;X-TITLE=Strasbourg:geo:0,0
END:VEVENT
BEGIN:VTIMEZONE
TZID:Europe/Paris
X-LIC-LOCATION:Europe/Paris
BEGIN:DAYLIGHT
DTSTART:20260329T030000
TZOFFSETFROM:+0100
TZOFFSETTO:+0200
TZNAME:CEST
END:DAYLIGHT
END:VTIMEZONE
END:VCALENDAR