BEGIN:VCALENDAR
VERSION:2.0
PRODID:-//wp-events-plugin.com//7.2.3//EN
TZID:Europe/London
X-WR-TIMEZONE:Europe/London
BEGIN:VEVENT
UID:141@enact-eu.net
DTSTART;TZID=Europe/Brussels;VALUE=DATE:20250925
DTEND;TZID=Europe/Brussels;VALUE=DATE:20250927
DTSTAMP:20250918T204453Z
URL:https://enact-eu.net/calendar/vox-pol-next-generation-network-conferen
 ce-2025/
SUMMARY:VOX-Pol Next Generation Network Conference 2025
DESCRIPTION:The VOX-Pol Next Generation Network Conference will bring toget
 her a community of early-career researchers (ECRs) working on issues relat
 ed to violent online extremism in its many forms. The conference will be h
 eld September 25-26th\, 2025 at Charles University in Prague\, Czech Repub
 lic.\n\nThis interdisciplinary event provides a unique opportunity for PhD
  students\, postdoctoral researchers\, and other ECRs to share their work\
 , receive constructive feedback\, and network with peers and established s
 cholars in the field. We welcome contributions from a broad range of disci
 plines related to violent online extremism\, including (but not limited to
 ): media and communication studies\, political science\, law\, psychology\
 , sociology\, criminology\, international relations\, computer science\, a
 nd digital humanities.\n\nThe conference will explore broadly-defined cont
 emporary challenges in online extremism research\, including the evolution
  of extremist narratives\, platform governance\, algorithmic amplification
 \, cross-platform strategies\, and any other key socio-technical dynamics.
 \n\nMore Information: https://voxpol.eu/events/vox-pol-next-generation-net
 work-conference-2025/
ATTACH;FMTTYPE=image/jpeg:https://enact-eu.net/wp-content/uploads/2025/09/
 voxpol.png
CATEGORIES:conference
LOCATION:Charles University\, Prague\, Charles University\, Prague\, Czech 
 Republic
X-APPLE-STRUCTURED-LOCATION;VALUE=URI;X-ADDRESS=Charles University\, Prague
 \, Czech Republic;X-APPLE-RADIUS=100;X-TITLE=Charles University\, Prague:g
 eo:0,0
END:VEVENT
BEGIN:VTIMEZONE
TZID:Europe/Brussels
X-LIC-LOCATION:Europe/Brussels
BEGIN:DAYLIGHT
DTSTART:20250330T030000
TZOFFSETFROM:+0100
TZOFFSETTO:+0200
TZNAME:CEST
END:DAYLIGHT
END:VTIMEZONE
END:VCALENDAR